BEGIN:VCALENDAR
VERSION:2.0
PRODID:-// - ECPv6.15.20//NONSGML v1.0//EN
CALSCALE:GREGORIAN
METHOD:PUBLISH
X-ORIGINAL-URL:https://conspiracy-con.de
X-WR-CALDESC:Veranstaltungen für 
REFRESH-INTERVAL;VALUE=DURATION:PT1H
X-Robots-Tag:noindex
X-PUBLISHED-TTL:PT1H
BEGIN:VTIMEZONE
TZID:Europe/Berlin
BEGIN:DAYLIGHT
TZOFFSETFROM:+0100
TZOFFSETTO:+0200
TZNAME:CEST
DTSTART:20250330T010000
END:DAYLIGHT
BEGIN:STANDARD
TZOFFSETFROM:+0200
TZOFFSETTO:+0100
TZNAME:CET
DTSTART:20251026T010000
END:STANDARD
BEGIN:DAYLIGHT
TZOFFSETFROM:+0100
TZOFFSETTO:+0200
TZNAME:CEST
DTSTART:20260329T010000
END:DAYLIGHT
BEGIN:STANDARD
TZOFFSETFROM:+0200
TZOFFSETTO:+0100
TZNAME:CET
DTSTART:20261025T010000
END:STANDARD
BEGIN:DAYLIGHT
TZOFFSETFROM:+0100
TZOFFSETTO:+0200
TZNAME:CEST
DTSTART:20270328T010000
END:DAYLIGHT
BEGIN:STANDARD
TZOFFSETFROM:+0200
TZOFFSETTO:+0100
TZNAME:CET
DTSTART:20271031T010000
END:STANDARD
END:VTIMEZONE
BEGIN:VEVENT
DTSTART;TZID=Europe/Berlin:20260328T110000
DTEND;TZID=Europe/Berlin:20260328T140000
DTSTAMP:20260423T125947
CREATED:20260306T144714Z
LAST-MODIFIED:20260306T145544Z
UID:10000573-1774695600-1774706400@conspiracy-con.de
SUMMARY:GRT-Event bei Pegasus Spiele in Friedberg - Unter purpurner Flagge - Avatar Legends
DESCRIPTION:Purpur: Du bist teil der Söldnerbande Nebelklaue\, Ihr werdet angeheuert um eine Piratenbande\, welche die Feuernation plagt und nun droht internationale Konflikte wieder neu zu entfachen\, zu Infiltrieren und ihnen die geraubten Schätze abzujagen. Schafft ihr es ungesehen\, die Beute zurückzuholen oder lasst ihr euch zum Bösen verführen?
URL:https://conspiracy-con.de/spielrunde/grt-event-bei-pegasus-spiele-in-friedberg-unter-purpurner-flagge-eine-gefaehrliche-bitte-avatar-legends/
CATEGORIES:Avatar Legends - Das Rollenspiel
ATTACH;FMTTYPE=image/webp:https://conspiracy-con.de/wp-content/uploads/2024/07/CONspiracy_Avatar_Einstiegsrunde.webp
END:VEVENT
BEGIN:VEVENT
DTSTART;TZID=Europe/Berlin:20260326T190000
DTEND;TZID=Europe/Berlin:20260326T220000
DTSTAMP:20260423T125947
CREATED:20260224T072204Z
LAST-MODIFIED:20260226T085748Z
UID:10000567-1774551600-1774562400@conspiracy-con.de
SUMMARY:Der Nachtexpress - Cthulhu
DESCRIPTION:Dezember 1925: Der luxuriöseste Zug in Deutschland lädt zu einer Reise ein. So wollen auch die Charaktere einfach nur so angenehm wie möglich zu ihrem Ziel kommen\, wobei die meisten von ihnen eher durch Zufall zu dieser Ehre gekommen sind\, edles Essen und ein feines Daunenbett in elegantem Ambiente unterwegs genießen zu können. Doch ist die Ruhe von kurzer Dauer und manchmal raubt nicht nur ein unangenehmer Fahrgast den anderen Passagieren den Schlaf. Ein Reise- und Gaslichtabenteuer für Cthulhu. \n\n\n\nEs gibt vorgefertigte Charaktere. Eigene Charaktere können aber gerne mitgebracht werden.  Besondere Kenntnisse der Spieler oder Charaktere sind nicht von Nöten. \n\n\n\nWir werden im Dicord den Sprachkanal benutzen und in Roll20 Spielen. Dort findet ihr auch die vorgefertigten Charaktere. Bitte schreibt welchen Charakter ihr haben möchtet\, dann schalte ich diesen dir dann in Roll20 freischalten kann. \n\n\n\nTrigger-Warnung: Bahnfahrt\, Kälte\, Nervige Mitmenschen\, Übernatürliche Phänomene\, Monster\, klassische Musik\, Gewalt\, Verletzungen und Tod
URL:https://conspiracy-con.de/spielrunde/der-nachtexpress-cthulhu/
CATEGORIES:Cthulhu
ATTACH;FMTTYPE=image/webp:https://conspiracy-con.de/wp-content/uploads/2024/07/CONspiracy_Cthulhu_Einstiegsrunde.webp
END:VEVENT
BEGIN:VEVENT
DTSTART;TZID=Europe/Berlin:20260325T190000
DTEND;TZID=Europe/Berlin:20260325T220000
DTSTAMP:20260423T125947
CREATED:20260226T082838Z
LAST-MODIFIED:20260226T085659Z
UID:10000568-1774465200-1774476000@conspiracy-con.de
SUMMARY:Game Night - Shadowrun
DESCRIPTION:„Euer anonymer Auftraggeber\, ein Elf in Trachtenjacke und Lederhosen\, scheint sich inmitten der urigen Gaststätte wie zu Hause zu fühlen und weiht euch\, während ihr noch eure Soy-Weißwürstchen zutzelt\, in seine Pläne ein: Er möchte\, dass ihr in die Arena des Stadtkampfspiels zwischen den Münchner Asphaltcowboys und den S-K Centurios eindringt und das Spiel zugunsten der Heimmannschaft manipuliert. Das ist allerdings schwer zu schlucken: Bei Stadtkampf handelt es sich um ein reales „Capture the Flag“ mit scharfer Munition\, und die Spielarena\, einige Häuserblocks im aufgegebenen Stadtteil Laim\, wird aufwändig geschützt. Aber Herr Schmidt hat einen Plan\, und das Spiel beginnt…“ Wir spielen „Game Night“ von Christian Götter im München Anfang der 2080er Jahre. Es können eigene Charaktere gespielt werden\, andernfalls stehen auch Promo-Charaktere zur Verfügung.
URL:https://conspiracy-con.de/spielrunde/game-night-shadowrun/
CATEGORIES:Shadowrun
ATTACH;FMTTYPE=image/webp:https://conspiracy-con.de/wp-content/uploads/2024/07/CONspiracy_Shadowrun_Einstiegsrunde.webp
END:VEVENT
END:VCALENDAR